BEGIN:VCALENDAR
VERSION:2.0
PRODID:-//Oaklands Elementary - ECPv6.2.8.1//NONSGML v1.0//EN
CALSCALE:GREGORIAN
METHOD:PUBLISH
X-WR-CALNAME:Oaklands Elementary
X-ORIGINAL-URL:https://oaklands.sd61.bc.ca
X-WR-CALDESC:Events for Oaklands Elementary
REFRESH-INTERVAL;VALUE=DURATION:PT1H
X-Robots-Tag:noindex
X-PUBLISHED-TTL:PT1H
BEGIN:VTIMEZONE
TZID:America/Vancouver
BEGIN:DAYLIGHT
TZOFFSETFROM:-0800
TZOFFSETTO:-0700
TZNAME:PDT
DTSTART:20250309T100000
END:DAYLIGHT
BEGIN:STANDARD
TZOFFSETFROM:-0700
TZOFFSETTO:-0800
TZNAME:PST
DTSTART:20251102T090000
END:STANDARD
END:VTIMEZONE
BEGIN:VEVENT
DTSTART;VALUE=DATE:20250313
DTEND;VALUE=DATE:20250314
DTSTAMP:20260425T074233
CREATED:20240624T191550Z
LAST-MODIFIED:20240624T191550Z
UID:4843-1741824000-1741910399@oaklands.sd61.bc.ca
SUMMARY:Report cards available on Parent Connect
DESCRIPTION:
URL:https://oaklands.sd61.bc.ca/calendar-event/report-cards-available-on-parent-connect-2/
END:VEVENT
BEGIN:VEVENT
DTSTART;VALUE=DATE:20250314
DTEND;VALUE=DATE:20250315
DTSTAMP:20260425T074233
CREATED:20240624T191632Z
LAST-MODIFIED:20240624T191632Z
UID:4845-1741910400-1741996799@oaklands.sd61.bc.ca
SUMMARY:Last day of school before Spring Break
DESCRIPTION:
URL:https://oaklands.sd61.bc.ca/calendar-event/last-day-of-school-before-spring-break/
END:VEVENT
BEGIN:VEVENT
DTSTART;VALUE=DATE:20250315
DTEND;VALUE=DATE:20250331
DTSTAMP:20260425T074233
CREATED:20240624T191710Z
LAST-MODIFIED:20240624T191710Z
UID:4847-1741996800-1743379199@oaklands.sd61.bc.ca
SUMMARY:Spring Break
DESCRIPTION:No school.
URL:https://oaklands.sd61.bc.ca/calendar-event/spring-break-2/
END:VEVENT
BEGIN:VEVENT
DTSTART;VALUE=DATE:20250331
DTEND;VALUE=DATE:20250401
DTSTAMP:20260425T074233
CREATED:20240624T191742Z
LAST-MODIFIED:20240624T191742Z
UID:4849-1743379200-1743465599@oaklands.sd61.bc.ca
SUMMARY:School re-opens
DESCRIPTION:
URL:https://oaklands.sd61.bc.ca/calendar-event/school-re-opens-4/
END:VEVENT
END:VCALENDAR